BEGIN:VCALENDAR
VERSION:2.0
PRODID:-//NGI Commons - ECPv6.15.20//NONSGML v1.0//EN
CALSCALE:GREGORIAN
METHOD:PUBLISH
X-WR-CALNAME:NGI Commons
X-ORIGINAL-URL:https://commons.ngi.eu
X-WR-CALDESC:Events for NGI Commons
REFRESH-INTERVAL;VALUE=DURATION:PT1H
X-Robots-Tag:noindex
X-PUBLISHED-TTL:PT1H
BEGIN:VTIMEZONE
TZID:Europe/Paris
BEGIN:DAYLIGHT
TZOFFSETFROM:+0100
TZOFFSETTO:+0200
TZNAME:CEST
DTSTART:20250330T010000
END:DAYLIGHT
BEGIN:STANDARD
TZOFFSETFROM:+0200
TZOFFSETTO:+0100
TZNAME:CET
DTSTART:20251026T010000
END:STANDARD
BEGIN:DAYLIGHT
TZOFFSETFROM:+0100
TZOFFSETTO:+0200
TZNAME:CEST
DTSTART:20260329T010000
END:DAYLIGHT
BEGIN:STANDARD
TZOFFSETFROM:+0200
TZOFFSETTO:+0100
TZNAME:CET
DTSTART:20261025T010000
END:STANDARD
BEGIN:DAYLIGHT
TZOFFSETFROM:+0100
TZOFFSETTO:+0200
TZNAME:CEST
DTSTART:20270328T010000
END:DAYLIGHT
BEGIN:STANDARD
TZOFFSETFROM:+0200
TZOFFSETTO:+0100
TZNAME:CET
DTSTART:20271031T010000
END:STANDARD
END:VTIMEZONE
BEGIN:VEVENT
DTSTART;TZID=Europe/Paris:20260421T000000
DTEND;TZID=Europe/Paris:20260423T235959
DTSTAMP:20260423T211153
CREATED:20260420T105528Z
LAST-MODIFIED:20260420T105531Z
UID:10000609-1776729600-1776988799@commons.ngi.eu
SUMMARY:OCX'26
DESCRIPTION:Open Community Experience. Come together. Contribute. Commit.Open Community Experience is where developers\, architects\, maintainers\, and open source builders meet in real life. After an amazing inaugural event\, OCX 2026 brings the global Eclipse Foundation community to Brussels for three days of technical sessions\, hands-on learning\, real-world problem solving\, and the hallway conversations that turn ideas into working software.
URL:https://commons.ngi.eu/event/ocx26/
ATTACH;FMTTYPE=image/jpeg:https://commons.ngi.eu/wp-content/uploads/2026/04/OCX26.jpeg
END:VEVENT
END:VCALENDAR